BEGIN:VCALENDAR
VERSION:2.0
PRODID:-//eventon.com NONSGML v1.0//EN
CALSCALE:GREGORIAN
METHOD:PUBLISH
BEGIN:VEVENT
UID:69e89e0e5de1c
DTSTAMP:20260422T100814Z
DTSTART:20191216T140000Z
DTEND:20191216T235000Z
LOCATION:
SUMMARY:Vor-Ort-Termine
DESCRIPTION:Vor-Ort-Termine\nhttps://rivoir.eu/events/vor-ort-termine-166/
URL:https://rivoir.eu/events/vor-ort-termine-166/
END:VEVENT
END:VCALENDAR