BEGIN:VCALENDAR
VERSION:2.0
PRODID:-//eventon.com NONSGML v1.0//EN
CALSCALE:GREGORIAN
METHOD:PUBLISH
BEGIN:VEVENT
UID:69e8a2046675e
DTSTAMP:20260422T102508Z
DTSTART:20200111T110000Z
DTEND:20200111T235000Z
LOCATION:
SUMMARY:Neujahrsgespräch
DESCRIPTION:Der SPD-Ortsverein Ulmer Westen lädt herzlich zum traditionell
 en Neujahrsgespräch mit Martin Rivoir MdL ein: Sonntag\,  12. Januar 2020 
 um 11:00 Uhr beim Kuhbergverein\,  Unterer Kuhberg 20 in Ulm (Zufahrt über
  Westerlinger Straße und Speidelweg) Im Rahmen dieses Neujahrsgesprächs f
 reuen wir uns sehr auf einen gemeinsamen Austausch mit Martin Rivoir über[
 ..]\nhttps://rivoir.eu/events/neujahrsgespraech-3/
URL:https://rivoir.eu/events/neujahrsgespraech-3/
END:VEVENT
END:VCALENDAR