BEGIN:VCALENDAR
VERSION:2.0
PRODID:-//eventon.com NONSGML v1.0//EN
CALSCALE:GREGORIAN
METHOD:PUBLISH
BEGIN:VEVENT
UID:69e89e0e70ed9
DTSTAMP:20260422T100814Z
DTSTART:20200211T140000Z
DTEND:20200211T235000Z
LOCATION:
SUMMARY:Fraktionsitzung
DESCRIPTION:Fraktionsitzung\nhttps://rivoir.eu/events/fraktionsitzung-24/
URL:https://rivoir.eu/events/fraktionsitzung-24/
END:VEVENT
END:VCALENDAR