BEGIN:VCALENDAR
VERSION:2.0
PRODID:-//eventon.com NONSGML v1.0//EN
CALSCALE:GREGORIAN
METHOD:PUBLISH
BEGIN:VEVENT
UID:69e89d785ebbf
DTSTAMP:20260422T100544Z
DTSTART:20200217T173000Z
DTEND:20200217T235000Z
LOCATION:
SUMMARY:Fraktionsitzung
DESCRIPTION:Fraktionsitzung\nhttps://rivoir.eu/events/fraktionsitzung-25/
URL:https://rivoir.eu/events/fraktionsitzung-25/
END:VEVENT
END:VCALENDAR