BEGIN:VCALENDAR
VERSION:2.0
PRODID:-//eventon.com NONSGML v1.0//EN
CALSCALE:GREGORIAN
METHOD:PUBLISH
BEGIN:VEVENT
UID:69e6399762b29
DTSTAMP:20260420T143503Z
DTSTART:20200227T090000Z
DTEND:20200227T235000Z
LOCATION:
SUMMARY:Vor-Ort-Termine
DESCRIPTION:Vor-Ort-Termine\nhttps://rivoir.eu/events/vor-ort-termine-187/
URL:https://rivoir.eu/events/vor-ort-termine-187/
END:VEVENT
END:VCALENDAR