BEGIN:VCALENDAR
VERSION:2.0
PRODID:-//eventon.com NONSGML v1.0//EN
CALSCALE:GREGORIAN
METHOD:PUBLISH
BEGIN:VEVENT
UID:69e8b07343817
DTSTAMP:20260422T112643Z
DTSTART:20200318T100000Z
DTEND:20200318T235000Z
LOCATION:
SUMMARY:Arbeitskreis Wissenschaft
DESCRIPTION:Arbeitskreis Wissenschaft\nhttps://rivoir.eu/events/arbeitskrei
 s-wissenschaft-16/
URL:https://rivoir.eu/events/arbeitskreis-wissenschaft-16/
END:VEVENT
END:VCALENDAR