BEGIN:VCALENDAR
VERSION:2.0
PRODID:-//eventon.com NONSGML v1.0//EN
CALSCALE:GREGORIAN
METHOD:PUBLISH
BEGIN:VEVENT
UID:69e8a24f15f49
DTSTAMP:20260422T102623Z
DTSTART:20200323T173000Z
DTEND:20200323T235000Z
LOCATION:
SUMMARY:Fraktionsitzung
DESCRIPTION:Fraktionsitzung\nhttps://rivoir.eu/events/fraktionsitzung-30/
URL:https://rivoir.eu/events/fraktionsitzung-30/
END:VEVENT
END:VCALENDAR