BEGIN:VCALENDAR
VERSION:2.0
PRODID:-//eventon.com NONSGML v1.0//EN
CALSCALE:GREGORIAN
METHOD:PUBLISH
BEGIN:VEVENT
UID:69e4ea82d433c
DTSTAMP:20260419T144522Z
DTSTART:20200505T110000Z
DTEND:20200505T235000Z
LOCATION:
SUMMARY:Fraktionsvorstand
DESCRIPTION:Fraktionsvorstand\nhttps://rivoir.eu/events/fraktionsvorstand-7
 6/
URL:https://rivoir.eu/events/fraktionsvorstand-76/
END:VEVENT
END:VCALENDAR