BEGIN:VCALENDAR
VERSION:2.0
PRODID:-//eventon.com NONSGML v1.0//EN
CALSCALE:GREGORIAN
METHOD:PUBLISH
BEGIN:VEVENT
UID:69e89d4ad64a8
DTSTAMP:20260422T100458Z
DTSTART:20200519T140000Z
DTEND:20200519T235000Z
LOCATION:
SUMMARY:Fraktionssitzung
DESCRIPTION:Fraktionssitzung\nhttps://rivoir.eu/events/fraktionssitzung-117
 /
URL:https://rivoir.eu/events/fraktionssitzung-117/
END:VEVENT
END:VCALENDAR