BEGIN:VCALENDAR
VERSION:2.0
PRODID:-//eventon.com NONSGML v1.0//EN
CALSCALE:GREGORIAN
METHOD:PUBLISH
BEGIN:VEVENT
UID:69e89fece0f62
DTSTAMP:20260422T101612Z
DTSTART:20200522T090000Z
DTEND:20200522T235000Z
LOCATION:
SUMMARY:Vor-Ort-Termine
DESCRIPTION:Vor-Ort-Termine\nhttps://rivoir.eu/events/vor-ort-termine-200/
URL:https://rivoir.eu/events/vor-ort-termine-200/
END:VEVENT
END:VCALENDAR