BEGIN:VCALENDAR
VERSION:2.0
PRODID:-//eventon.com NONSGML v1.0//EN
CALSCALE:GREGORIAN
METHOD:PUBLISH
BEGIN:VEVENT
UID:69e89d50aa381
DTSTAMP:20260422T100504Z
DTSTART:20200624T100000Z
DTEND:20200624T235000Z
LOCATION:
SUMMARY:Plenarsitzung
DESCRIPTION:Plenarsitzung\nhttps://rivoir.eu/events/plenarsitzung-76/
URL:https://rivoir.eu/events/plenarsitzung-76/
END:VEVENT
END:VCALENDAR