BEGIN:VCALENDAR
VERSION:2.0
PRODID:-//eventon.com NONSGML v1.0//EN
CALSCALE:GREGORIAN
METHOD:PUBLISH
BEGIN:VEVENT
UID:69e89d791e8e5
DTSTAMP:20260422T100545Z
DTSTART:20200707T140000Z
DTEND:20200707T235000Z
LOCATION:
SUMMARY:Fraktionsitzung
DESCRIPTION:Fraktionsitzung\nhttps://rivoir.eu/events/fraktionsitzung-38/
URL:https://rivoir.eu/events/fraktionsitzung-38/
END:VEVENT
END:VCALENDAR