BEGIN:VCALENDAR
VERSION:2.0
PRODID:-//eventon.com NONSGML v1.0//EN
CALSCALE:GREGORIAN
METHOD:PUBLISH
BEGIN:VEVENT
UID:69e8dd1720e17
DTSTAMP:20260422T143711Z
DTSTART:20200902T140000Z
DTEND:20200902T235000Z
LOCATION:
SUMMARY:Besuch Donaubad wegen Bundesförderung
DESCRIPTION:Besuch Donaubad wegen Bundesförderung\nhttps://rivoir.eu/event
 s/besuch-donaubad-wegen-bundesfoerderung/
URL:https://rivoir.eu/events/besuch-donaubad-wegen-bundesfoerderung/
END:VEVENT
END:VCALENDAR