BEGIN:VCALENDAR
VERSION:2.0
PRODID:-//eventon.com NONSGML v1.0//EN
CALSCALE:GREGORIAN
METHOD:PUBLISH
BEGIN:VEVENT
UID:69e89d4e04c66
DTSTAMP:20260422T100502Z
DTSTART:20200923T100000Z
DTEND:20200923T235000Z
LOCATION:
SUMMARY:AK Wissenschaft
DESCRIPTION:AK Wissenschaft\nhttps://rivoir.eu/events/ak-wissenschaft/
URL:https://rivoir.eu/events/ak-wissenschaft/
END:VEVENT
END:VCALENDAR