BEGIN:VCALENDAR
VERSION:2.0
PRODID:-//eventon.com NONSGML v1.0//EN
CALSCALE:GREGORIAN
METHOD:PUBLISH
BEGIN:VEVENT
UID:69e89db9d405b
DTSTAMP:20260422T100649Z
DTSTART:20200929T110000Z
DTEND:20200929T235000Z
LOCATION:
SUMMARY:Fraktionsvorstand
DESCRIPTION:Fraktionsvorstand\nhttps://rivoir.eu/events/fraktionsvorstand-8
 5/
URL:https://rivoir.eu/events/fraktionsvorstand-85/
END:VEVENT
END:VCALENDAR