BEGIN:VCALENDAR
VERSION:2.0
PRODID:-//eventon.com NONSGML v1.0//EN
CALSCALE:GREGORIAN
METHOD:PUBLISH
BEGIN:VEVENT
UID:69e89da1a15e7
DTSTAMP:20260422T100625Z
DTSTART:20201007T083000Z
DTEND:20201007T235000Z
LOCATION:
SUMMARY:Vor-Ort-Termine
DESCRIPTION:Vor-Ort-Termine\nhttps://rivoir.eu/events/vor-ort-termine-231/
URL:https://rivoir.eu/events/vor-ort-termine-231/
END:VEVENT
END:VCALENDAR