BEGIN:VCALENDAR
VERSION:2.0
PRODID:-//eventon.com NONSGML v1.0//EN
CALSCALE:GREGORIAN
METHOD:PUBLISH
BEGIN:VEVENT
UID:69e89d787bbea
DTSTAMP:20260422T100544Z
DTSTART:20201012T173000Z
DTEND:20201012T235000Z
LOCATION:
SUMMARY:Fraktionssitzung
DESCRIPTION:Fraktionssitzung\nhttps://rivoir.eu/events/fraktionssitzung-127
 /
URL:https://rivoir.eu/events/fraktionssitzung-127/
END:VEVENT
END:VCALENDAR