BEGIN:VCALENDAR
VERSION:2.0
PRODID:-//eventon.com NONSGML v1.0//EN
CALSCALE:GREGORIAN
METHOD:PUBLISH
BEGIN:VEVENT
UID:69e89d4d4ed4a
DTSTAMP:20260422T100501Z
DTSTART:20201109T090000Z
DTEND:20201109T235000Z
LOCATION:
SUMMARY:Vor-Ort-Termine
DESCRIPTION:Vor-Ort-Termine\nhttps://rivoir.eu/events/vor-ort-termine-242/
URL:https://rivoir.eu/events/vor-ort-termine-242/
END:VEVENT
END:VCALENDAR