BEGIN:VCALENDAR
VERSION:2.0
PRODID:-//eventon.com NONSGML v1.0//EN
CALSCALE:GREGORIAN
METHOD:PUBLISH
BEGIN:VEVENT
UID:69e60974dfa57
DTSTAMP:20260420T110940Z
DTSTART:20210214T110000Z
DTEND:20210214T235000Z
LOCATION:
SUMMARY:Corona-Sprechstunde mit Prof. Thomas Mertens
DESCRIPTION:„Corona-Sprechstunde“ mit Prof. Dr. Thomas Mertens\,  Vorsi
 tzender der STIKO (Ständigen Impfkommission des RKI) Sendung vom Sonntag n
 ochmals ansehen auf YouTube: https://youtu.be/qvNs9OkSyAs\nhttps://rivoir.e
 u/events/corona-sprechstunde-mit-prof-thomas-mertens/
URL:https://rivoir.eu/events/corona-sprechstunde-mit-prof-thomas-mertens/
END:VEVENT
END:VCALENDAR