BEGIN:VCALENDAR
VERSION:2.0
PRODID:-//eventon.com NONSGML v1.0//EN
CALSCALE:GREGORIAN
METHOD:PUBLISH
BEGIN:VEVENT
UID:69e89d4438ead
DTSTAMP:20260422T100452Z
DTSTART:20210305T190000Z
DTEND:20210305T235000Z
LOCATION:
SUMMARY:initiative.ulm digital
DESCRIPTION:initiative.ulm digital\nhttps://rivoir.eu/events/initiative-ulm
 -digital/
URL:https://rivoir.eu/events/initiative-ulm-digital/
END:VEVENT
END:VCALENDAR