BEGIN:VCALENDAR
VERSION:2.0
PRODID:-//eventon.com NONSGML v1.0//EN
CALSCALE:GREGORIAN
METHOD:PUBLISH
BEGIN:VEVENT
UID:69e89d4a40e8c
DTSTAMP:20260422T100458Z
DTSTART:20210315T173000Z
DTEND:20210315T235000Z
LOCATION:
SUMMARY:Fraktionssitzung
DESCRIPTION:Fraktionssitzung\nhttps://rivoir.eu/events/fraktionssitzung-155
 /
URL:https://rivoir.eu/events/fraktionssitzung-155/
END:VEVENT
END:VCALENDAR