BEGIN:VCALENDAR
VERSION:2.0
PRODID:-//eventon.com NONSGML v1.0//EN
CALSCALE:GREGORIAN
METHOD:PUBLISH
BEGIN:VEVENT
UID:69e8c661730ec
DTSTAMP:20260422T130017Z
DTSTART:20210223T091000Z
DTEND:20210223T091000Z
LOCATION:
SUMMARY:Townhall mit Bundesfinanzminister Olaf Scholz
DESCRIPTION:Die Auswirkungen der Corona-Pandemie treffen unsere gesamte Ges
 ellschaft. Was unternimmt Bundesfinanzminister Olaf Scholz\,  damit wir aus
  dieser Krise kommen? Wie werden Verbände\,  Unternehmen und Familien in d
 er Corona-Krise unterstützt? Stellen Sie diese und weitere Fragen persönl
 ich an den Vizekanzler\,  am Donnerstag\,  25. Februar ab 18.00 Uhr in eine
 r digitalen Townhall.[..]\nhttps://rivoir.eu/events/townhall-mit-bundesfina
 nzminister-olaf-scholz/
URL:https://rivoir.eu/events/townhall-mit-bundesfinanzminister-olaf-scholz/
END:VEVENT
END:VCALENDAR