BEGIN:VCALENDAR
VERSION:2.0
PRODID:-//eventon.com NONSGML v1.0//EN
CALSCALE:GREGORIAN
METHOD:PUBLISH
BEGIN:VEVENT
UID:69e89d45bf65a
DTSTAMP:20260422T100453Z
DTSTART:20210413T100000Z
DTEND:20210413T235000Z
LOCATION:
SUMMARY:Fraktionsvorstand
DESCRIPTION:Fraktionsvorstand\nhttps://rivoir.eu/events/fraktionsvorstand-9
 6/
URL:https://rivoir.eu/events/fraktionsvorstand-96/
END:VEVENT
END:VCALENDAR