BEGIN:VCALENDAR
VERSION:2.0
PRODID:-//eventon.com NONSGML v1.0//EN
CALSCALE:GREGORIAN
METHOD:PUBLISH
BEGIN:VEVENT
UID:69e89d785f30c
DTSTAMP:20260422T100544Z
DTSTART:20210513
DTEND:20210514
LOCATION:
SUMMARY:Feiertag
DESCRIPTION:Feiertag\nhttps://rivoir.eu/events/feiertag/
URL:https://rivoir.eu/events/feiertag/
END:VEVENT
END:VCALENDAR