BEGIN:VCALENDAR
VERSION:2.0
PRODID:-//eventon.com NONSGML v1.0//EN
CALSCALE:GREGORIAN
METHOD:PUBLISH
BEGIN:VEVENT
UID:69e89da176f2a
DTSTAMP:20260422T100625Z
DTSTART:20210617T163000Z
DTEND:20210617T235000Z
LOCATION:
SUMMARY:AG Einstein
DESCRIPTION:AG Einstein\nhttps://rivoir.eu/events/ag-einstein-4/
URL:https://rivoir.eu/events/ag-einstein-4/
END:VEVENT
END:VCALENDAR