BEGIN:VCALENDAR
VERSION:2.0
PRODID:-//eventon.com NONSGML v1.0//EN
CALSCALE:GREGORIAN
METHOD:PUBLISH
BEGIN:VEVENT
UID:69e89e0e50740
DTSTAMP:20260422T100814Z
DTSTART:20210621T173000Z
DTEND:20210621T235000Z
LOCATION:
SUMMARY:Fraktionssitzung
DESCRIPTION:Fraktionssitzung\nhttps://rivoir.eu/events/fraktionssitzung-174
 /
URL:https://rivoir.eu/events/fraktionssitzung-174/
END:VEVENT
END:VCALENDAR