BEGIN:VCALENDAR
VERSION:2.0
PRODID:-//eventon.com NONSGML v1.0//EN
CALSCALE:GREGORIAN
METHOD:PUBLISH
BEGIN:VEVENT
UID:69e8c6602da15
DTSTAMP:20260422T130016Z
DTSTART:20210627
DTEND:20210628
LOCATION:
SUMMARY:10 Jahre Welterbe Ehrenstein
DESCRIPTION:10 Jahre Welterbe Ehrenstein\nhttps://rivoir.eu/events/10-jahre
 -welterbe-ehrenstein/
URL:https://rivoir.eu/events/10-jahre-welterbe-ehrenstein/
END:VEVENT
END:VCALENDAR