BEGIN:VCALENDAR
VERSION:2.0
PRODID:-//eventon.com NONSGML v1.0//EN
CALSCALE:GREGORIAN
METHOD:PUBLISH
BEGIN:VEVENT
UID:69e89d4da6fe6
DTSTAMP:20260422T100501Z
DTSTART:20210709T100000Z
DTEND:20210709T235000Z
LOCATION:
SUMMARY:Online-Gespräche
DESCRIPTION:Online-Gespräche\nhttps://rivoir.eu/events/online-gespraeche/
URL:https://rivoir.eu/events/online-gespraeche/
END:VEVENT
END:VCALENDAR