BEGIN:VCALENDAR
VERSION:2.0
PRODID:-//eventon.com NONSGML v1.0//EN
CALSCALE:GREGORIAN
METHOD:PUBLISH
BEGIN:VEVENT
UID:69e8c675219d1
DTSTAMP:20260422T130037Z
DTSTART:20210924T083000Z
DTEND:20210924T235000Z
LOCATION:
SUMMARY:Vor-Ort-Termine/Online-Gespräche
DESCRIPTION:Vor-Ort-Termine/Online-Gespräche\nhttps://rivoir.eu/events/vor
 -ort-termine-online-gespraeche-76/
URL:https://rivoir.eu/events/vor-ort-termine-online-gespraeche-76/
END:VEVENT
END:VCALENDAR