BEGIN:VCALENDAR
VERSION:2.0
PRODID:-//eventon.com NONSGML v1.0//EN
CALSCALE:GREGORIAN
METHOD:PUBLISH
BEGIN:VEVENT
UID:69e89dba18dcf
DTSTAMP:20260422T100650Z
DTSTART:20211013T160000Z
DTEND:20211013T235000Z
LOCATION:
SUMMARY:Gemeinderat
DESCRIPTION:Gemeinderat\nhttps://rivoir.eu/events/gemeinderat-14/
URL:https://rivoir.eu/events/gemeinderat-14/
END:VEVENT
END:VCALENDAR