BEGIN:VCALENDAR
VERSION:2.0
PRODID:-//eventon.com NONSGML v1.0//EN
CALSCALE:GREGORIAN
METHOD:PUBLISH
BEGIN:VEVENT
UID:69e89d4fbdac1
DTSTAMP:20260422T100503Z
DTSTART:20211206T173000Z
DTEND:20211206T235000Z
LOCATION:
SUMMARY:Fraktionssitzung
DESCRIPTION:Fraktionssitzung\nhttps://rivoir.eu/events/fraktionssitzung-201
 /
URL:https://rivoir.eu/events/fraktionssitzung-201/
END:VEVENT
END:VCALENDAR