BEGIN:VCALENDAR
VERSION:2.0
PRODID:-//eventon.com NONSGML v1.0//EN
CALSCALE:GREGORIAN
METHOD:PUBLISH
BEGIN:VEVENT
UID:69e89d77d4235
DTSTAMP:20260422T100543Z
DTSTART:20220120T140000Z
DTEND:20220120T235000Z
LOCATION:
SUMMARY:Finanzausschuss
DESCRIPTION:Finanzausschuss\nhttps://rivoir.eu/events/finanzausschuss-10/
URL:https://rivoir.eu/events/finanzausschuss-10/
END:VEVENT
END:VCALENDAR