BEGIN:VCALENDAR
VERSION:2.0
PRODID:-//eventon.com NONSGML v1.0//EN
CALSCALE:GREGORIAN
METHOD:PUBLISH
BEGIN:VEVENT
UID:69e89d5082959
DTSTAMP:20260422T100504Z
DTSTART:20220303T083000Z
DTEND:20220303T235000Z
LOCATION:
SUMMARY:Vor-Ort-Termine/ Online-Gespräche
DESCRIPTION:Vor-Ort-Termine/ Online-Gespräche\nhttps://rivoir.eu/events/vo
 r-ort-termine-online-gespraeche-125/
URL:https://rivoir.eu/events/vor-ort-termine-online-gespraeche-125/
END:VEVENT
END:VCALENDAR