BEGIN:VCALENDAR
VERSION:2.0
PRODID:-//eventon.com NONSGML v1.0//EN
CALSCALE:GREGORIAN
METHOD:PUBLISH
BEGIN:VEVENT
UID:69e8b48fd50c1
DTSTAMP:20260422T114415Z
DTSTART:20220430T090000Z
DTEND:20220430T235000Z
LOCATION:
SUMMARY:Verbandstag Süddeutscher Schwimmverband
DESCRIPTION:Verbandstag Süddeutscher Schwimmverband\nhttps://rivoir.eu/eve
 nts/verbandstag-sueddeutscher-schwimmverband/
URL:https://rivoir.eu/events/verbandstag-sueddeutscher-schwimmverband/
END:VEVENT
END:VCALENDAR