BEGIN:VCALENDAR
VERSION:2.0
PRODID:-//eventon.com NONSGML v1.0//EN
CALSCALE:GREGORIAN
METHOD:PUBLISH
BEGIN:VEVENT
UID:69e89db9e3754
DTSTAMP:20260422T100649Z
DTSTART:20220504T090000Z
DTEND:20220504T235000Z
LOCATION:
SUMMARY:Plenarsitzung
DESCRIPTION:Plenarsitzung\nhttps://rivoir.eu/events/plenarsitzung-126/
URL:https://rivoir.eu/events/plenarsitzung-126/
END:VEVENT
END:VCALENDAR