BEGIN:VCALENDAR
VERSION:2.0
PRODID:-//eventon.com NONSGML v1.0//EN
CALSCALE:GREGORIAN
METHOD:PUBLISH
BEGIN:VEVENT
UID:69e89d4e54bd4
DTSTAMP:20260422T100502Z
DTSTART:20220518T090000Z
DTEND:20220518T235000Z
LOCATION:
SUMMARY:AK Wissenschaft
DESCRIPTION:AK Wissenschaft\nhttps://rivoir.eu/events/ak-wissenschaft-7/
URL:https://rivoir.eu/events/ak-wissenschaft-7/
END:VEVENT
END:VCALENDAR