BEGIN:VCALENDAR
VERSION:2.0
PRODID:-//eventon.com NONSGML v1.0//EN
CALSCALE:GREGORIAN
METHOD:PUBLISH
BEGIN:VEVENT
UID:69e8da3c64c80
DTSTAMP:20260422T142500Z
DTSTART:20220523T173000Z
DTEND:20220523T235000Z
LOCATION:
SUMMARY:Fraktionssitzung
DESCRIPTION:Fraktionssitzung\nhttps://rivoir.eu/events/fraktionssitzung-234
 /
URL:https://rivoir.eu/events/fraktionssitzung-234/
END:VEVENT
END:VCALENDAR