BEGIN:VCALENDAR
VERSION:2.0
PRODID:-//eventon.com NONSGML v1.0//EN
CALSCALE:GREGORIAN
METHOD:PUBLISH
BEGIN:VEVENT
UID:69e6132a9fa1d
DTSTAMP:20260420T115106Z
DTSTART:20220726T090000Z
DTEND:20220726T235000Z
LOCATION:
SUMMARY:Vor-Ort-Termin/online Gespräch
DESCRIPTION:Vor-Ort-Termin/online Gespräch\nhttps://rivoir.eu/events/vor-o
 rt-termin-online-gespraech/
URL:https://rivoir.eu/events/vor-ort-termin-online-gespraech/
END:VEVENT
END:VCALENDAR