BEGIN:VCALENDAR
VERSION:2.0
PRODID:-//eventon.com NONSGML v1.0//EN
CALSCALE:GREGORIAN
METHOD:PUBLISH
BEGIN:VEVENT
UID:69e6388313bb6
DTSTAMP:20260420T143027Z
DTSTART:20220912T173000Z
DTEND:20220912T235000Z
LOCATION:
SUMMARY:Fraktionssitzung
DESCRIPTION:Fraktionssitzung\nhttps://rivoir.eu/events/fraktionssitzung-241
 /
URL:https://rivoir.eu/events/fraktionssitzung-241/
END:VEVENT
END:VCALENDAR