BEGIN:VCALENDAR
VERSION:2.0
PRODID:-//eventon.com NONSGML v1.0//EN
CALSCALE:GREGORIAN
METHOD:PUBLISH
BEGIN:VEVENT
UID:69e89d4a87422
DTSTAMP:20260422T100458Z
DTSTART:20220928T090000Z
DTEND:20220928T235000Z
LOCATION:
SUMMARY:Plenarsitzung
DESCRIPTION:Plenarsitzung\nhttps://rivoir.eu/events/plenarsitzung-133/
URL:https://rivoir.eu/events/plenarsitzung-133/
END:VEVENT
END:VCALENDAR