BEGIN:VCALENDAR
VERSION:2.0
PRODID:-//eventon.com NONSGML v1.0//EN
CALSCALE:GREGORIAN
METHOD:PUBLISH
BEGIN:VEVENT
UID:69e89e2344230
DTSTAMP:20260422T100835Z
DTSTART:20221115T130000Z
DTEND:20221115T235000Z
LOCATION:
SUMMARY:Fraktionssitzung
DESCRIPTION:Fraktionssitzung\nhttps://rivoir.eu/events/fraktionssitzung-249
 /
URL:https://rivoir.eu/events/fraktionssitzung-249/
END:VEVENT
END:VCALENDAR