BEGIN:VCALENDAR
VERSION:2.0
PRODID:-//eventon.com NONSGML v1.0//EN
CALSCALE:GREGORIAN
METHOD:PUBLISH
BEGIN:VEVENT
UID:69e89d793c4f3
DTSTAMP:20260422T100545Z
DTSTART:20221125T180000Z
DTEND:20221125T235000Z
LOCATION:
SUMMARY:SPD-Stammtisch mit Rivoir
DESCRIPTION:Der SPD-Ortsverein Ulmer Alb/Oberes Loneta lädt zum Stammtisch
  mit dem Landtagsabgeordneten Martin Rivoir: Freitag\,  25. November\,  18 
 Uhr Gasthof „Am Berg“ (Bergstraße 18) in Temmenhausen.\nhttps://rivoir
 .eu/events/spd-stammtisch-mit-rivoir/
URL:https://rivoir.eu/events/spd-stammtisch-mit-rivoir/
END:VEVENT
END:VCALENDAR