BEGIN:VCALENDAR
VERSION:2.0
PRODID:-//eventon.com NONSGML v1.0//EN
CALSCALE:GREGORIAN
METHOD:PUBLISH
BEGIN:VEVENT
UID:69e637fb22987
DTSTAMP:20260420T142811Z
DTSTART:20230315T140000Z
DTEND:20230315T235000Z
LOCATION:
SUMMARY:Wissenschaftsausschuss
DESCRIPTION:Wissenschaftsausschuss\nhttps://rivoir.eu/events/wissenschaftsa
 usschuss-39/
URL:https://rivoir.eu/events/wissenschaftsausschuss-39/
END:VEVENT
END:VCALENDAR