BEGIN:VCALENDAR
VERSION:2.0
PRODID:-//eventon.com NONSGML v1.0//EN
CALSCALE:GREGORIAN
METHOD:PUBLISH
BEGIN:VEVENT
UID:69e8b072b8730
DTSTAMP:20260422T112642Z
DTSTART:20230705T100000Z
DTEND:20230705T235000Z
LOCATION:
SUMMARY:Arbeitskreis Wissenschaft
DESCRIPTION:Arbeitskreis Wissenschaft\nhttps://rivoir.eu/events/arbeitskrei
 s-wissenschaft-24/
URL:https://rivoir.eu/events/arbeitskreis-wissenschaft-24/
END:VEVENT
END:VCALENDAR