BEGIN:VCALENDAR
VERSION:2.0
PRODID:-//eventon.com NONSGML v1.0//EN
CALSCALE:GREGORIAN
METHOD:PUBLISH
BEGIN:VEVENT
UID:69e89d43b0aa0
DTSTAMP:20260422T100451Z
DTSTART:20230924T110000Z
DTEND:20230924T235000Z
LOCATION:
SUMMARY:Moderation Paradekonzert
DESCRIPTION:Moderation Paradekonzert\nhttps://rivoir.eu/events/moderation-p
 aradekonzert/
URL:https://rivoir.eu/events/moderation-paradekonzert/
END:VEVENT
END:VCALENDAR