BEGIN:VCALENDAR
VERSION:2.0
PRODID:-//eventon.com NONSGML v1.0//EN
CALSCALE:GREGORIAN
METHOD:PUBLISH
BEGIN:VEVENT
UID:69e89d78a9789
DTSTAMP:20260422T100544Z
DTSTART:20230925T173000Z
DTEND:20230925T235000Z
LOCATION:
SUMMARY:Fraktionssitzung
DESCRIPTION:Fraktionssitzung\nhttps://rivoir.eu/events/fraktionssitzung-302
 /
URL:https://rivoir.eu/events/fraktionssitzung-302/
END:VEVENT
END:VCALENDAR