BEGIN:VCALENDAR
VERSION:2.0
PRODID:-//eventon.com NONSGML v1.0//EN
CALSCALE:GREGORIAN
METHOD:PUBLISH
BEGIN:VEVENT
UID:69e8a28bb89c4
DTSTAMP:20260422T102723Z
DTSTART:20230928T090000Z
DTEND:20230928T235000Z
LOCATION:
SUMMARY:Vor-Ort-Termin/online Gespräch
DESCRIPTION:Vor-Ort-Termin/online Gespräch\nhttps://rivoir.eu/events/vor-o
 rt-termin-online-gespraech-125/
URL:https://rivoir.eu/events/vor-ort-termin-online-gespraech-125/
END:VEVENT
END:VCALENDAR