BEGIN:VCALENDAR
VERSION:2.0
PRODID:-//eventon.com NONSGML v1.0//EN
CALSCALE:GREGORIAN
METHOD:PUBLISH
BEGIN:VEVENT
UID:69e89e0d45ca6
DTSTAMP:20260422T100813Z
DTSTART:20231012T093000Z
DTEND:20231012T235000Z
LOCATION:
SUMMARY:Plenarsitzung
DESCRIPTION:Plenarsitzung\nhttps://rivoir.eu/events/plenarsitzung-158/
URL:https://rivoir.eu/events/plenarsitzung-158/
END:VEVENT
END:VCALENDAR