BEGIN:VCALENDAR
VERSION:2.0
PRODID:-//eventon.com NONSGML v1.0//EN
CALSCALE:GREGORIAN
METHOD:PUBLISH
BEGIN:VEVENT
UID:69e89e0d8913c
DTSTAMP:20260422T100813Z
DTSTART:20231027T090000Z
DTEND:20231027T235000Z
LOCATION:
SUMMARY:Vor-Ort-Termin/online Gespräch
DESCRIPTION:Vor-Ort-Termin/online Gespräch\nhttps://rivoir.eu/events/vor-o
 rt-termin-online-gespraech-133/
URL:https://rivoir.eu/events/vor-ort-termin-online-gespraech-133/
END:VEVENT
END:VCALENDAR