BEGIN:VCALENDAR
VERSION:2.0
PRODID:-//eventon.com NONSGML v1.0//EN
CALSCALE:GREGORIAN
METHOD:PUBLISH
BEGIN:VEVENT
UID:69e89dba90ac7
DTSTAMP:20260422T100650Z
DTSTART:20231106T173000Z
DTEND:20231106T235000Z
LOCATION:
SUMMARY:Fraktionssitzung
DESCRIPTION:Fraktionssitzung\nhttps://rivoir.eu/events/fraktionssitzung-307
 /
URL:https://rivoir.eu/events/fraktionssitzung-307/
END:VEVENT
END:VCALENDAR